BEGIN:VCALENDAR
VERSION:2.0
PRODID:-//Asharum Amonines - ECPv6.15.20//NONSGML v1.0//EN
CALSCALE:GREGORIAN
METHOD:PUBLISH
X-WR-CALNAME:Asharum Amonines
X-ORIGINAL-URL:https://www.amonines.com
X-WR-CALDESC:Events for Asharum Amonines
REFRESH-INTERVAL;VALUE=DURATION:PT1H
X-Robots-Tag:noindex
X-PUBLISHED-TTL:PT1H
BEGIN:VTIMEZONE
TZID:Europe/Amsterdam
BEGIN:DAYLIGHT
TZOFFSETFROM:+0100
TZOFFSETTO:+0200
TZNAME:CEST
DTSTART:20240331T010000
END:DAYLIGHT
BEGIN:STANDARD
TZOFFSETFROM:+0200
TZOFFSETTO:+0100
TZNAME:CET
DTSTART:20241027T010000
END:STANDARD
BEGIN:DAYLIGHT
TZOFFSETFROM:+0100
TZOFFSETTO:+0200
TZNAME:CEST
DTSTART:20250330T010000
END:DAYLIGHT
BEGIN:STANDARD
TZOFFSETFROM:+0200
TZOFFSETTO:+0100
TZNAME:CET
DTSTART:20251026T010000
END:STANDARD
BEGIN:DAYLIGHT
TZOFFSETFROM:+0100
TZOFFSETTO:+0200
TZNAME:CEST
DTSTART:20260329T010000
END:DAYLIGHT
BEGIN:STANDARD
TZOFFSETFROM:+0200
TZOFFSETTO:+0100
TZNAME:CET
DTSTART:20261025T010000
END:STANDARD
END:VTIMEZONE
BEGIN:VEVENT
DTSTART;TZID=Europe/Amsterdam:20250815T120000
DTEND;TZID=Europe/Amsterdam:20250817T120000
DTSTAMP:20260424T051646
CREATED:20250118T155550Z
LAST-MODIFIED:20250414T183832Z
UID:21594-1755259200-1755432000@www.amonines.com
SUMMARY:Connect in Heart & Spirit with Movement and Resonance
DESCRIPTION:Data: 15 – 17 of August \nThis course\, facilitated by Angela Köhnlein\, starts on Friday at twelve o’clock (arrival is possible the day before from three o’clock onwards) and finishes on Sunday at twelve o’clock (with the possibility to stay until after lunch) \nBody and Voice as Instruments and Messengers of Movement and Resonance in Asha and Abbah\nCurriculum:\nDuring this workshop we will free ourselves\, others and our surroundings and think about whom we want to connect with in heart and spirit. \n\nHeart bridges experience and awareness. Movement and sounding sessions will guide us.\nIf we encounter suffering\, we will question who it is\, that is suffering.\nIf we encounter love\, we will explore non-judgement and non-possession.\nWe will pause time to connect to the transformative forces.\nArchetypes may appear in our shared experiences\, we will maintain a neutral vertical connection.\nThere will be quiet movement sessions in nature by and close to the river L'Aisne\nYou will leave refreshed and replenished and with new insights about managing your daily life.\n\nThe main text source for this workshop will be ‘The Asha of Nâm’ by Yoginâm \nA quote: \n\n“Inherently together we realize a ‘Beyond-Mind’ transcendence. It is what lives behind the eyes and within the ears. It is for which consciousness is only an approximation. This transcendence as Abbah can best be imagined as an infinite potentiality which image is of course Asha. It does not say anything about Abbah. It is the Asha image that my programmes find meaningful.” \n\nSummary of terms:\nAsha is what happens to you as ‘I/World’ in experience in time. You are experience. There is no separation. And Abbah relates to your being in Awareness\, which cannot be known\, but is a certainty. It is all that is. \nTimetable:\nOnce the workshop has started it will be integrated with the rhythm of life and mediations in the Asharum Amonines. You may help with small chores; daily living is movement and sound! \nBut don’t worry: If rest is what is needed most\, you may always choose to take a step back to retreat or take a walk. This workshop hopefully touches upon your deepest needs and desires. \nThere are two communal meditations per day. One in the morning after breakfast and one in the evening before supper. You are free to join those or not. \n\n“Meditation is a moment of ultimate peace. Therefore\, Asha meditation and Breath meditation are pure meditations. The more we live in Awareness\, the completer and more natural we are. We can make choices based on better grounds and for better consequences and we become better in facing and handling problems.” (quote by Yoginâm) \n\nThe curriculum will develop organically with a set schedule for Movement and Sound sessions\, held daily between the first meditation and lunch. After lunch there will be time for a siesta. In the afternoon\, we will have the second session followed by another meditation and then supper. \nOne evening (likely Saturday) we may have a short night-time session under the night sky. An early morning session is also an option\, to experience dawn while moving\, depending on rest needs. \nTransport and arriving\nSince the programme on Friday starts quitte on time  you have the choice to arrive one day (or more) earlier and enjoy some extra time of rest prior to the workshop in the Asharum. During the bookingproces you can select a box to arrive one day earlier (check-in then is possible from 15.00 onward). In case you would like to book more days in advance this is possible but please contact us to arrange this. \nFor transport possibilities see this page. \nOver myself as a facilitator:\nAngela Köhnlein \n \n  \nThis part of my practice concerns healing and restores harmony. It does not ‘fix’ anything. I grew up as a dancer\, because my body seeks movement-adjustments. I had no choice in it. I used my voice and my hearing to help me understand others better and to shape inner images of sound\, landscapes and forms. I was guided to bridge differences in memory\, vocality and vocabulary. I was guided to connect to my emotions through inner sensations and through my sense-perceptions of my surrounding environment. \nIn the year 2002 I met my spiritual master Yoginâm. And this niche has deepened\, widened and became more intimate. My fears have left me. \n  \nNote: This group-experience will carry anybody without former experience along easily. At the same time\, you stay yourself responsible for your own well-being and your own needs. You are a guest\, not a servant. But feeling connection in caring is often very joyful or otherwise transformative of traps of separation.
URL:https://www.amonines.com/en/event/body-and-voice-as-instruments-and-messengers-of-movement-and-resonance/
LOCATION:Asharum Amonines\, Rue de Dochamps 7\, Amonines\, 6997\, Belgium
CATEGORIES:Courses,Retreat
ATTACH;FMTTYPE=image/jpeg:https://www.amonines.com/wp-content/uploads/2025/01/Screenshot_20250112_170204_Gmail.jpeg
ORGANIZER;CN="Angela K%C3%B6hnlein":MAILTO:wegstetten191@gmail.com
END:VEVENT
END:VCALENDAR